BEGIN:VCALENDAR
VERSION:2.0
PRODID:-//ChamberMaster//Event Calendar 2.0//EN
METHOD:PUBLISH
X-PUBLISHED-TTL:P1H
REFRESH-INTERVAL:P1H
CALSCALE:GREGORIAN
BEGIN:VTIMEZONE
TZID:America/New_York
BEGIN:DAYLIGHT
RRULE:FREQ=YEARLY;BYMONTH=3;BYDAY=2SU
DTSTART:20070101T000000
TZOFFSETFROM:-0500
TZOFFSETTO:-0400
TZNAME:Eastern Daylight Time
END:DAYLIGHT
BEGIN:STANDARD
RRULE:FREQ=YEARLY;BYMONTH=11;BYDAY=1SU
DTSTART:20070101T000000
TZOFFSETFROM:-0400
TZOFFSETTO:-0500
TZNAME:Eastern Standard Time
END:STANDARD
END:VTIMEZONE
BEGIN:VEVENT
DTSTART;TZID=America/New_York:20260616T080000
DTEND;TZID=America/New_York:20260616T091500
X-MICROSOFT-CDO-ALLDAYEVENT:FALSE
SUMMARY:Morning Trade Talks with the NRVHBA - Trades/Subcontractors
DESCRIPTION:This session is tailored for subcontractors and trades\, with conversation around coordination with GCs\, scheduling\, jobsite communication\, safety\, and workforce retention. Your input will guide NRVHBA on how to better connect trades with builders\, improve jobsite collaboration\, and support training for your crews. Due to limited space\, only those members whose business is considered a subcontractor or trade should register to attend.\nThe NRVHBA launched Morning Trade Talks early in 2026\, a monthly morning roundtable series bringing together members by subindustry for peer connection\, idea-sharing\, and candid discussion of challenges and opportunities. Eight sessions across 2026 will engage builders\, remodelers\, trades\, suppliers\, developers\, associate members and emerging leaders. Each session will be facilitated to remain antitrust-compliant while capturing actionable feedback to guide NRVHBA programming\, advocacy\, and member services. Sessions will also focus on discussing topics relevant to the group's roles or businesses\, allowing members to connect with peers who understand each other's day-to-day reality.
X-ALT-DESC;FMTTYPE=text/html:<!DOCTYPE html><html><head><title></title></head><body aria-disabled="false"><p style="line-height: 19.6px\; margin: 0px\; color: rgb(73\, 91\, 132)\; font-family: Montserrat\, sans-serif\; font-size: 14px\; font-style: normal\; font-variant-ligatures: normal\; font-variant-caps: normal\; font-weight: 400\; letter-spacing: normal\; orphans: 2\; text-align: left\; text-indent: 0px\; text-transform: none\; widows: 2\; word-spacing: 0px\; -webkit-text-stroke-width: 0px\; white-space: normal\; background-color: rgb(255\, 255\, 255)\; text-decoration-thickness: initial\; text-decoration-style: initial\; text-decoration-color: initial\;"><span style="color: rgb(0\, 0\, 0)\; font-family: Arial\, Helvetica\, sans-serif\; font-size: 14px\;">This session is tailored for</span><span style="color: rgb(184\, 49\, 47)\; font-family: Arial\, Helvetica\, sans-serif\; font-size: 14px\;"> <strong fr-original-style="" style="font-weight: 700\;">subcontractors and trades</strong></span><span style="color: rgb(0\, 0\, 0)\; font-family: Arial\, Helvetica\, sans-serif\; font-size: 14px\;">\, with conversation around coordination with GCs\, scheduling\, jobsite communication\, safety\, and workforce retention. Your input will guide NRVHBA on how to better connect trades with builders\, improve jobsite collaboration\, and support training for your crews. <span style="color: rgb(0\, 0\, 0)\;"><strong fr-original-style="" style="font-weight: 700\;">Due to limited space\, only those members whose business is considered a subcontractor or trade should register to attend.</strong></span></span></p><p style="line-height: 19.6px\; margin: 0px\; color: rgb(73\, 91\, 132)\; font-family: Montserrat\, sans-serif\; font-size: 14px\; font-style: normal\; font-variant-ligatures: normal\; font-variant-caps: normal\; font-weight: 400\; letter-spacing: normal\; orphans: 2\; text-align: left\; text-indent: 0px\; text-transform: none\; widows: 2\; word-spacing: 0px\; -webkit-text-stroke-width: 0px\; white-space: normal\; background-color: rgb(255\, 255\, 255)\; text-decoration-thickness: initial\; text-decoration-style: initial\; text-decoration-color: initial\;"><span style="font-size: 14px\;"><span style="font-family: Arial\,Helvetica\,sans-serif\;"><span style="color: rgb(0\, 0\, 0)\;"><br></span></span></span></p><p style="margin-top: 12pt\; line-height: 112%\;"><span style="font-size: 14px\;"><span style="font-family: Arial\,Helvetica\,sans-serif\;">The NRVHBA launched Morning Trade Talks early in 2026\,</span></span><span style="font-family: Arial\, Helvetica\, sans-serif\; font-size: 14px\; color: rgb(0\, 0\, 0)\;">&nbsp\;a monthly morning roundtable series bringing together members by subindustry for peer connection\, idea-sharing\, and candid discussion of challenges and opportunities. Eight sessions across 2026 will engage builders\, remodelers\, trades\, suppliers\, developers\, associate members and emerging leaders. Each session will be facilitated to remain antitrust-compliant while capturing actionable feedback to guide NRVHBA programming\, advocacy\, and member services. Sessions will also focus on discussing topics relevant to the group&rsquo\;s roles or businesses\, allowing members to connect with peers who understand each other&rsquo\;s day-to-day reality.</span></p></body></html>
LOCATION:1715 Pratt Drive Blacksburg 24060
UID:e.3029.1359263
SEQUENCE:3
DTSTAMP:20260421T074410Z
URL:https://members.nrvhba.com/eventcalendar/Details/morning-trade-talks-with-the-nrvhba-trades-subcontractors-1600701?sourceTypeId=Hub
END:VEVENT
END:VCALENDAR
